BEGIN:VCALENDAR
VERSION:2.0
PRODID:Dillon, CO Calendar Creator
METHOD:PUBLISH
BEGIN:VEVENT
DTSTAMP:20260122T082739
DTSTART:20260204T173000
DTEND:20260204T190000
SUMMARY:Planning and Zoning Commission
DESCRIPTION:&nbsp;The Planning &amp; Zoning Commission invites the Dillon community to join&nbsp;an open roundtable discussion regarding <em>Building Height</em>&nbsp;on Wednesday, February 4, 2026, at Dillon Town Hall at the end of the regular Planning Commission&nbsp;meeting, following the agenda action items. The meeting will start at 5:30 PM, and the roundtable will begin after the action items.&nbsp;
X-ALT-DESC;FMTTYPE=text/html:&nbsp;The Planning &amp; Zoning Commission invites the Dillon community to join&nbsp;an open roundtable discussion regarding <em>Building Height</em>&nbsp;on Wednesday, February 4, 2026, at Dillon Town Hall at the end of the regular Planning Commission&nbsp;meeting, following the agenda action items. The meeting will start at 5:30 PM, and the roundtable will begin after the action items.&nbsp;
LOCATION:Town Hall\, 275 Lake Dillon Drive\, PO Box 8 Dillon\, Colorado 80435
CLASS:PUBLIC
END:VEVENT
END:VCALENDAR
